BEGIN:VCALENDAR
VERSION:2.0
PRODID:-//CiviCRM//NONSGML CiviEvent iCal//EN
X-WR-TIMEZONE:Europe/London
METHOD:PUBLISH
BEGIN:VTIMEZONE
TZID:Europe/London
BEGIN:DAYLIGHT
TZOFFSETFROM:+0100
TZOFFSETTO:+0100
TZNAME:BST
DTSTART:20260707T120000
END:DAYLIGHT
END:VTIMEZONE
BEGIN:VEVENT
UID:CiviCRM_EventID_407_100748873adf1116b4bf2b1376906731@adhdembrace.org
SUMMARY:Post-diagnosis session for parents: Online - July 
 2026 (XZ212001)
X-ALT-DESC;FMTTYPE=text/html:<!DOCTYPE HTML PUBLIC
  "-//W3C//DTD HTML 3.2//EN"><html><body><p>Having 
 a child or young person with ADHD can be an isolat
 ing and challenging time\, so meeting with other p
 arents/ carers who are experiencing similar challe
 nges can be supportive and encouraging.</p>\n \n <
 p>Our post-diagnosis workshop is delivered by our 
 Family Support Worker and is full of essential inf
 ormation to inform\, help and empower you.</p>\n \
 n <p>Following your attendance at this workshop\, 
 you can book a 1:1 Support Session. This will be t
 ailored to your specific situation and child's nee
 ds and will signpost you to a range of online reso
 urces and suggestion.</p>\n \n <p>There is a £12.5
 0 registration fee for Richmond & Kingston Borough
  residents. For those out of Borough there is a fe
 e of £50 for one parent and an additional £25 for 
 a second parent.</p>\n \n <p>To attend the Post-Di
 agnosis workshop and 1:1 Support Sessions you are 
 required to register with us online\, if you have 
 already registered with us please login to your ac
 count.</p>\n \n <h3>Pricing & Assisted Places </h3
 >\n \n <p><b>We charge a modest amount for our cou
 rses in order to help us cover our costs\, yet we 
 also want them to be affordable to as many people 
 as possible. We have a limited number of assisted 
 places for those suffering financial hardship. To 
 apply for an assisted place\, please get in touch 
 with us ​outlining your circumstances at<a href="h
 ttp://adhdembrace.org/" rel="noreferrer noopener" 
 target="_blank"> info@adhdembrace.org</a></b></p><
 /body></html>
DESCRIPTION:Having a child or young person with ADHD can be an
  isolating and challenging time\, so meeting with 
 other parents/ carers who are experiencing similar
  challenges can be supportive and encouraging.\n \
 n \n \n Our post-diagnosis workshop is delivered b
 y our Family Support Worker and is full of essenti
 al information to inform\, help and empower you.\n
  \n \n \n Following your attendance at this worksh
 op\, you can book a 1:1 Support Session. This will
  be tailored to your specific situation and child'
 s needs and will signpost you to a range of online
  resources and suggestion.\n \n \n \n There is a £
 12.50 registration fee for Richmond & Kingston Bor
 ough residents. For those out of Borough there is 
 a fee of £50 for one parent and an additional £25 
 for a second parent.\n \n \n \n To attend the Post
 -Diagnosis workshop and 1:1 Support Sessions you a
 re required to register with us online\, if you ha
 ve already registered with us please login to your
  account.\n \n \n \n Pricing & Assisted Places \n 
 \n \n We charge a modest amount for our courses in
  order to help us cover our costs\, yet we also wa
 nt them to be affordable to as many people as poss
 ible. We have a limited number of assisted places 
 for those suffering financial hardship. To apply f
 or an assisted place\, please get in touch with us
  ​outlining your circumstances at info@adhdembrace
 .org (http://adhdembrace.org/)\n \n 
CATEGORIES:Post Diagnosis for Parents (XZ212001)
CALSCALE:GREGORIAN
DTSTAMP;TZID=Europe/London:20260707T120000
DTSTART;TZID=Europe/London:20260707T120000
DTEND;TZID=Europe/London:20260707T140000
LOCATION:Online\n United Kingdom\n 
URL:https://adhdembrace.org/civicrm/event/info/?reset=1&id=407
END:VEVENT
END:VCALENDAR
