BEGIN:VCALENDAR
VERSION:2.0
PRODID:-//CiviCRM//NONSGML CiviEvent iCal//EN
X-WR-TIMEZONE:Europe/London
METHOD:PUBLISH
BEGIN:VTIMEZONE
TZID:Europe/London
BEGIN:DAYLIGHT
TZOFFSETFROM:+0100
TZOFFSETTO:+0100
TZNAME:BST
DTSTART:20260424T103000
END:DAYLIGHT
END:VTIMEZONE
BEGIN:VEVENT
UID:CiviCRM_EventID_411_100748873adf1116b4bf2b1376906731@adhdembrace.org
SUMMARY:Meet up at Heatham House
X-ALT-DESC;FMTTYPE=text/html:<!DOCTYPE HTML PUBLIC
  "-//W3C//DTD HTML 3.2//EN"><html><body><p> </p>\n
  \n <div class="structured-content-rich-text struc
 tured-content__module l-align-left l-mar-vert-6 l-
 sm-mar-vert-4 text-body-medium">\n <p><strong>Deta
 ils: </strong></p>\n \n <p>This meet-up is a great
  opportunity to find out more about our services a
 nd to meet our Family Support worker and other mem
 bers of our team.  Join us for a cuppa and find ou
 t how we can support you as well as meet and conne
 ct with other parents and carers.</p>\n </div></bo
 dy></html>
DESCRIPTION: \n \n \n \n \n Details: \n \n \n \n This meet-up 
 is a great opportunity to find out more about our 
 services and to meet our Family Support worker and
  other members of our team.  Join us for a cuppa a
 nd find out how we can support you as well as meet
  and connect with other parents and carers.\n \n \
 n \n 
CATEGORIES:Meet Ups
CALSCALE:GREGORIAN
DTSTAMP;TZID=Europe/London:20260424T103000
DTSTART;TZID=Europe/London:20260424T103000
DTEND;TZID=Europe/London:20260424T123000
LOCATION:Heatham House\n Whitton Road\n Twickenham\, TW1 1B
 H\n United Kingdom\n 
URL:https://adhdembrace.org/civicrm/event/info/?reset=1&id=411
END:VEVENT
END:VCALENDAR
