BEGIN:VCALENDAR
VERSION:2.0
PRODID:-//CiviCRM//NONSGML CiviEvent iCal//EN
X-WR-TIMEZONE:Europe/London
METHOD:PUBLISH
BEGIN:VTIMEZONE
TZID:Europe/London
BEGIN:DAYLIGHT
TZOFFSETFROM:+0100
TZOFFSETTO:+0100
TZNAME:BST
DTSTART:20260513T161500
END:DAYLIGHT
END:VTIMEZONE
BEGIN:VEVENT
UID:CiviCRM_EventID_419_100748873adf1116b4bf2b1376906731@adhdembrace.org
SUMMARY:Teacher Seminar Online - Supporting Girls with ADH
 D: Hidden Struggles and Unseen Strengths May 2026 
 (XZ000208)
X-ALT-DESC;FMTTYPE=text/html:<!DOCTYPE HTML PUBLIC
  "-//W3C//DTD HTML 3.2//EN"><html><body><p> </p>\n
  \n <h2>About this event</h2>\n \n <p>Topics cover
 ed:<br />\n • Gender differences in ADHD presentat
 ion and diagnosis<br />\n • Emotional masking\, pe
 rfectionism\, and anxiety<br />\n • Classroom sign
 als often missed in girls<br />\n • Activity: Case
 -study reflection and discussion</p>\n \n <h2>Abou
 t the speaker</h2>\n \n <p>Dr Sudipta Sen – Consul
 tant in Paediatric Neurodevelopment (MBBS\, DCH\, 
 FRCPCH)</p>\n \n <h3>Online information</h3>\n \n 
 <p>This event will be held via Teams. You will be 
 emailed the Zoom dial-in details on the morning of
  the event. </p>\n \n <h3>Pricing</h3>\n \n <p>The
  event fee for this webinar is £12.50.</p>\n \n <p
 >If you have any difficulties making your booking\
 , please contact info@adhdembrace.org</p>\n \n <p>
 This event is one of the ADHD Embrace Teacher Semi
 nars series. These are hosted by ADHD Embrace and 
 Kingston University\, SIG on Inclusion and Social 
 Justice\, Department of Education. </p>\n \n <p> <
 /p></body></html>
DESCRIPTION: \n \n \n \n About this event\n \n \n Topics cover
 ed:\n \n • Gender differences in ADHD presentation
  and diagnosis\n \n • Emotional masking\, perfecti
 onism\, and anxiety\n \n • Classroom signals often
  missed in girls\n \n • Activity: Case-study refle
 ction and discussion\n \n \n \n About the speaker\
 n \n \n Dr Sudipta Sen – Consultant in Paediatric 
 Neurodevelopment (MBBS\, DCH\, FRCPCH)\n \n \n \n 
 Online information\n \n \n This event will be held
  via Teams. You will be emailed the Zoom dial-in d
 etails on the morning of the event. \n \n \n \n Pr
 icing\n \n \n The event fee for this webinar is £1
 2.50.\n \n \n \n If you have any difficulties maki
 ng your booking\, please contact info@adhdembrace.
 org\n \n \n \n This event is one of the ADHD Embra
 ce Teacher Seminars series. These are hosted by AD
 HD Embrace and Kingston University\, SIG on Inclus
 ion and Social Justice\, Department of Education. 
 \n \n \n \n  \n \n 
CATEGORIES:Teacher seminar (XZ000208)
CALSCALE:GREGORIAN
DTSTAMP;TZID=Europe/London:20260513T161500
DTSTART;TZID=Europe/London:20260513T161500
DTEND;TZID=Europe/London:20260513T173000
LOCATION:Online\n United Kingdom\n 
URL:https://adhdembrace.org/civicrm/event/info/?reset=1&id=419
END:VEVENT
END:VCALENDAR
