BEGIN:VCALENDAR
VERSION:2.0
PRODID:-//CiviCRM//NONSGML CiviEvent iCal//EN
X-WR-TIMEZONE:Europe/London
METHOD:PUBLISH
BEGIN:VTIMEZONE
TZID:Europe/London
BEGIN:DAYLIGHT
TZOFFSETFROM:+0100
TZOFFSETTO:+0100
TZNAME:BST
DTSTART:20260422T161500
END:DAYLIGHT
END:VTIMEZONE
BEGIN:VEVENT
UID:CiviCRM_EventID_434_100748873adf1116b4bf2b1376906731@adhdembrace.org
SUMMARY:Teacher Seminar Online - Physical and aggressive b
 ehaviour in school: Supporting pupils with ADHD & 
 trauma through Non-Violent Resistance (NVR) April 
 2026 (XZ000208)
X-ALT-DESC;FMTTYPE=text/html:<!DOCTYPE HTML PUBLIC
  "-//W3C//DTD HTML 3.2//EN"><html><body><p> </p>\n
  \n <h2>About this event</h2>\n \n <p dir="ltr">Th
 is seminar will cover how schools and staff can ma
 nage challenging behaviours for pupils with ADHD &
  trauma through Non-Violent Resistance (NVR) and w
 ill specifically look at: </p>\n \n <ul dir="ltr">
 \n 	<li dir="ltr">What drives the challenging beha
 viour</li>\n 	<li dir="ltr">Managing a child who i
 s about to become unregulated (“fizz”) through the
  lens of ADHD or trauma</li>\n 	<li dir="ltr">Why 
 consequences and rewards do not work for pupils wi
 th ADHD and trauma</li>\n 	<li dir="ltr">Addressin
 g behaviour with relational management.</li>\n 	<l
 i dir="ltr">Practical strategies that can be easil
 y implemented in the classroom.</li>\n </ul>\n \n 
 <p dir="ltr"> </p>\n \n <h2>About the speaker</h2>
 \n \n <p>Jenny Wilkinson\, Dip.Couns\, NVR Parenti
 ng.  Jenny is a qualified counsellor\, trauma-info
 rmed family therapist\, and accredited NVR Practit
 ioner with lived experience of child-to-parent vio
 lence and ADHD. Jenny specialises in helping paren
 ts create calm in their family using Non-Violent R
 esistance (NVR).</p>\n \n <h3>Online information</
 h3>\n \n <p>This event will be held via Zoom. You 
 will be emailed the Zoom dial-in details on the mo
 rning of the event. </p>\n \n <h3>Pricing</h3>\n \
 n <p>The event fee for this webinar is £12.50.</p>
 \n \n <p>If you have any difficulties making your 
 booking\, please contact info@adhdembrace.org</p>\
 n \n <p>This event is one of the ADHD Embrace Teac
 her Seminars series. These are hosted by ADHD Embr
 ace and Kingston University\, SIG on Inclusion and
  Social Justice\, Department of Education. </p>\n 
 \n <p> </p></body></html>
DESCRIPTION: \n \n \n \n About this event\n \n \n This seminar
  will cover how schools and staff can manage chall
 enging behaviours for pupils with ADHD & trauma th
 rough Non-Violent Resistance (NVR) and will specif
 ically look at: \n \n \n \n \n 	What drives the ch
 allenging behaviour\n 	Managing a child who is abo
 ut to become unregulated (“fizz”) through the lens
  of ADHD or trauma\n 	Why consequences and rewards
  do not work for pupils with ADHD and trauma\n 	Ad
 dressing behaviour with relational management.\n 	
 Practical strategies that can be easily implemente
 d in the classroom.\n \n \n  \n \n \n \n About the
  speaker\n \n \n Jenny Wilkinson\, Dip.Couns\, NVR
  Parenting.  Jenny is a qualified counsellor\, tra
 uma-informed family therapist\, and accredited NVR
  Practitioner with lived experience of child-to-pa
 rent violence and ADHD. Jenny specialises in helpi
 ng parents create calm in their family using Non-V
 iolent Resistance (NVR).\n \n \n \n Online informa
 tion\n \n \n This event will be held via Zoom. You
  will be emailed the Zoom dial-in details on the m
 orning of the event. \n \n \n \n Pricing\n \n \n T
 he event fee for this webinar is £12.50.\n \n \n \
 n If you have any difficulties making your booking
 \, please contact info@adhdembrace.org\n \n \n \n 
 This event is one of the ADHD Embrace Teacher Semi
 nars series. These are hosted by ADHD Embrace and 
 Kingston University\, SIG on Inclusion and Social 
 Justice\, Department of Education. \n \n \n \n  \n
  \n 
CATEGORIES:Teacher seminar (XZ000208)
CALSCALE:GREGORIAN
DTSTAMP;TZID=Europe/London:20260422T161500
DTSTART;TZID=Europe/London:20260422T161500
DTEND;TZID=Europe/London:20260422T173000
LOCATION:Online\n United Kingdom\n 
URL:https://adhdembrace.org/civicrm/event/info/?reset=1&id=434
END:VEVENT
END:VCALENDAR
