BEGIN:VCALENDAR
VERSION:2.0
PRODID:-//CiviCRM//NONSGML CiviEvent iCal//EN
X-WR-TIMEZONE:Europe/London
METHOD:PUBLISH
BEGIN:VTIMEZONE
TZID:Europe/London
BEGIN:DAYLIGHT
TZOFFSETFROM:+0100
TZOFFSETTO:+0100
TZNAME:BST
DTSTART:20260601T200000
END:DAYLIGHT
END:VTIMEZONE
BEGIN:VEVENT
UID:CiviCRM_EventID_436_100748873adf1116b4bf2b1376906731@adhdembrace.org
SUMMARY:Managing physical and aggressive behaviour through
  NVR for primary school children with ADHD - June 
 2026 (XZ000212)
X-ALT-DESC;FMTTYPE=text/html:<!DOCTYPE HTML PUBLIC
  "-//W3C//DTD HTML 3.2//EN"><html><body><p> </p>\n
  \n <p>A parenting course on non-violent resistanc
 e training for parents of children with ADHD in pr
 imary school who display physical and aggressive b
 ehaviour. </p>\n \n <p>This course will cover: </p
 >\n \n <ul type="disc">\n 	<li>The causes of viole
 nt or aggressive behaviour </li>\n 	<li>How to de-
 escalate difficult situations </li>\n 	<li>How to 
 therapeutically address and stop unwanted behaviou
 rs </li>\n 	<li>How to improve and repair the rela
 tionship with your child and create a calm home </
 li>\n </ul>\n \n <p><b>Course presenter</b>:  Jenn
 y Wilkinson\, Dip.Couns\, NVR Parenting.  Jenny is
  a qualified counsellor\, trauma-informed family t
 herapist\, and accredited NVR Practitioner with li
 ved experience of child-to-parent violence and ADH
 D. Jenny specialises in helping parents create cal
 m in their family using Non-Violent Resistance (NV
 R).</p>\n \n <p><b>Dates:   </b><b>Monday 1 June t
 o Monday 29 June for 5 weeks</b></p>\n \n <p><b>Ti
 me:  </b><b>8 pm </b><b>to 9.30 pm</b></p>\n \n <p
 >Course Content:</p>\n \n <p>·       Week 1 - Unde
 rstanding aggressive behaviour\, self-care and pic
 king your battles</p>\n \n <p>·       Week 2 - Tec
 hniques to de-escalate and stop aggressive behavio
 ur</p>\n \n <p>·       Week 3 - Parental presence 
 - the child-to-parent relationship</p>\n \n <p>·  
      Week 4 - Building a loving parental connectio
 n and how to use your support network</p>\n \n <p>
 ·       Week 5 - Review and Q&A</p>\n \n <p><span 
 style="font-size:11pt\;"><span style="line-height:
 normal\;"><span style="vertical-align:baseline\;">
 <span style="font-family:Calibri\, sans-serif\;"><
 span style="border:none 1pt\;font-size:12pt\;paddi
 ng:0cm\;">This course is online.  Participants wil
 l be encouraged to join the course with cameras on
 \, as it is quite interactive.</span></span></span
 ></span></span></p>\n \n <p><b>Cost: </b><b>£40 pe
 r person for residents in Richmond Borough\, £115 
 per person for other residents\, and 50% for a sec
 ond person in a couple.</b></p></body></html>
DESCRIPTION: \n \n \n \n A parenting course on non-violent res
 istance training for parents of children with ADHD
  in primary school who display physical and aggres
 sive behaviour. \n \n \n \n This course will cover
 : \n \n \n \n \n 	The causes of violent or aggress
 ive behaviour \n 	How to de-escalate difficult sit
 uations \n 	How to therapeutically address and sto
 p unwanted behaviours \n 	How to improve and repai
 r the relationship with your child and create a ca
 lm home \n \n \n Course presenter:  Jenny Wilkinso
 n\, Dip.Couns\, NVR Parenting.  Jenny is a qualifi
 ed counsellor\, trauma-informed family therapist\,
  and accredited NVR Practitioner with lived experi
 ence of child-to-parent violence and ADHD. Jenny s
 pecialises in helping parents create calm in their
  family using Non-Violent Resistance (NVR).\n \n \
 n \n Dates:   Monday 1 June to Monday 29 June for 
 5 weeks\n \n \n \n Time:  8 pm to 9.30 pm\n \n \n 
 \n Course Content:\n \n \n \n ·       Week 1 - Und
 erstanding aggressive behaviour\, self-care and pi
 cking your battles\n \n \n \n ·       Week 2 - Tec
 hniques to de-escalate and stop aggressive behavio
 ur\n \n \n \n ·       Week 3 - Parental presence -
  the child-to-parent relationship\n \n \n \n ·    
    Week 4 - Building a loving parental connection 
 and how to use your support network\n \n \n \n ·  
      Week 5 - Review and Q&A\n \n \n \n This cours
 e is online.  Participants will be encouraged to j
 oin the course with cameras on\, as it is quite in
 teractive.\n \n \n \n Cost: £40 per person for res
 idents in Richmond Borough\, £115 per person for o
 ther residents\, and 50% for a second person in a 
 couple.\n \n 
CATEGORIES:Parenting course (XZ000212)
CALSCALE:GREGORIAN
DTSTAMP;TZID=Europe/London:20260601T200000
DTSTART;TZID=Europe/London:20260601T200000
DTEND;TZID=Europe/London:20260629T213000
LOCATION:Online\n United Kingdom\n 
URL:https://adhdembrace.org/civicrm/event/info/?reset=1&id=436
END:VEVENT
END:VCALENDAR
