BEGIN:VCALENDAR
VERSION:2.0
PRODID:-//CiviCRM//NONSGML CiviEvent iCal//EN
X-WR-TIMEZONE:Europe/London
METHOD:PUBLISH
BEGIN:VTIMEZONE
TZID:Europe/London
BEGIN:DAYLIGHT
TZOFFSETFROM:+0100
TZOFFSETTO:+0100
TZNAME:BST
DTSTART:20260519T200000
END:DAYLIGHT
END:VTIMEZONE
BEGIN:VEVENT
UID:CiviCRM_EventID_440_100748873adf1116b4bf2b1376906731@adhdembrace.org
SUMMARY:Seminar Online - A personal journey with ADHD: Fro
 m school struggles to thriving as a doctor May 202
 6 (XZ000211)
X-ALT-DESC;FMTTYPE=text/html:<!DOCTYPE HTML PUBLIC
  "-//W3C//DTD HTML 3.2//EN"><html><body><p> </p>\n
  \n <div class="structured-content g-cell g-cell-1
 0-12 g-cell-md-1-1">\n <h2 class="text-body-large 
 hide-small">About this Event</h2>\n \n <div class=
 "has-user-generated-content">\n <div class="struct
 ured-content-rich-text structured-content__module 
 l-align-left l-mar-vert-6 l-sm-mar-vert-4 text-bod
 y-medium">\n <p><strong>What the session will cove
 r:  </strong></p>\n \n <p>Join us for a daughter-f
 ather discussion about Isabelle's journey with ADH
 D where they share their respective experiences an
 d perspectives from the earliest struggles and cha
 llenges with ADHD through to where Isabelle is tod
 ay practising as a NHS Junior Doctor.  Isabelle wi
 ll also talk about her coping strategies and tools
  she uses today.  Isabelle and Stuart will also be
  happy to do a Q&A at the end.  The session will b
 e led by Annette Wilson\, our Chair.</p>\n \n <p><
 strong>Who should attend? </strong></p>\n \n <p>Th
 is is a session for young people with ADHD and the
 ir parents.  </p>\n \n <h2>About the speaker</h2>\
 n \n <p>Dr Isabelle White\, NHS Junior Doctor\, an
 d her father\, Stuart White</p>\n </div>\n \n <div
  class="structured-content-rich-text structured-co
 ntent__module l-align-left l-mar-vert-6 l-sm-mar-v
 ert-4 text-body-medium">\n <h3>Online information<
 /h3>\n \n <p>Registrants will receive the Zoom dia
 l-in details via email on the morning of the webin
 ar.</p>\n </div>\n \n <div class="structured-conte
 nt-rich-text structured-content__module l-align-le
 ft l-mar-vert-6 l-sm-mar-vert-4 text-body-medium">
 \n <h3>Pricing & Assisted Places </h3>\n \n <p><b>
 We charge a modest amount for our seminars in orde
 r to help us cover our costs\, yet we also want th
 em to be affordable to as many people as possible.
  We have a limited number of assisted places for t
 hose suffering financial hardship. To apply for an
  assisted place\, please get in touch with us ​out
 lining your circumstances at<a href="http://adhdem
 brace.org/" rel="noreferrer noopener" target="_bla
 nk"> info@adhdembrace.org</a></b></p>\n \n <p> </p
 >\n </div>\n </div>\n </div></body></html>
DESCRIPTION: \n \n \n \n \n About this Event\n \n \n \n \n Wha
 t the session will cover:  \n \n \n \n Join us for
  a daughter-father discussion about Isabelle's jou
 rney with ADHD where they share their respective e
 xperiences and perspectives from the earliest stru
 ggles and challenges with ADHD through to where Is
 abelle is today practising as a NHS Junior Doctor.
   Isabelle will also talk about her coping strateg
 ies and tools she uses today.  Isabelle and Stuart
  will also be happy to do a Q&A at the end.  The s
 ession will be led by Annette Wilson\, our Chair.\
 n \n \n \n Who should attend? \n \n \n \n This is 
 a session for young people with ADHD and their par
 ents.  \n \n \n \n About the speaker\n \n \n Dr Is
 abelle White\, NHS Junior Doctor\, and her father\
 , Stuart White\n \n \n \n \n \n \n Online informat
 ion\n \n \n Registrants will receive the Zoom dial
 -in details via email on the morning of the webina
 r.\n \n \n \n \n \n \n Pricing & Assisted Places \
 n \n \n We charge a modest amount for our seminars
  in order to help us cover our costs\, yet we also
  want them to be affordable to as many people as p
 ossible. We have a limited number of assisted plac
 es for those suffering financial hardship. To appl
 y for an assisted place\, please get in touch with
  us ​outlining your circumstances at info@adhdembr
 ace.org (http://adhdembrace.org/)\n \n \n \n  \n \
 n \n \n \n \n \n \n 
CATEGORIES:Seminar (XZ000211)
CALSCALE:GREGORIAN
DTSTAMP;TZID=Europe/London:20260519T200000
DTSTART;TZID=Europe/London:20260519T200000
DTEND;TZID=Europe/London:20260519T213000
LOCATION:Online\n United Kingdom\n 
URL:https://adhdembrace.org/civicrm/event/info/?reset=1&id=440
END:VEVENT
END:VCALENDAR
